Workbook
Name Q1_Statement_1: hidden!$I$8
Name Q1_Statement_2: hidden!$I$9
Name Q1_Statement_3: hidden!$I$10
Name Q1_Statement_4: hidden!$I$11
Name Question_1: hidden!$E$8

Sheet agro-ecologica & EC
C4: =hidden!E3 -> Agricoltura ed economia circolare
C6: =hidden!E4 -> Esplorare il modo in cui l'CE può essere implementata nel contesto dell'azienda agricola.
C8: =hidden!E6 -> L'economia circolare è applicabile a tutti i settori industriali e l'agricoltura non è da meno. Utilizzate questo strumento per esplorare la vostra comprensione delle azioni pratiche che potrebbero essere intraprese.
B11: Q1 | C11: =Question_1 -> Quali dei seguenti rifiuti possono potenzialmente causare danni all'ambiente?
G15: =hidden!H8 -> Latte
G19: =hidden!H9 -> Letame
G24: =hidden!H10 -> Pesticidi
G29: =hidden!H11 -> Liquami
C33: {=_xlfn.SWITCH(hidden!H7,1,Q1_Statement_1,2,Q1_Statement_2,3,Q1_Statement_3,4,Q1_Statement_4,"")}
C37: =hidden!I13 -> La maggior parte dei rifiuti agricoli ha il potenziale di causare danni all'ambiente e pertanto si incoraggiano buone pratiche sostenibili.
B42: Q2 | C42: =hidden!E14 -> Quali delle seguenti attività contribuiscono al riscaldamento globale?
C45: =hidden!H15 -> (a) Lavorazione del suolo | E45: =IF(hidden!K15=TRUE,hidden!I15,"")
C50: =hidden!H16 -> (b) Carne e latticini | E50: =IF(hidden!K16=TRUE,hidden!I16,"")
C55: =hidden!H17 -> (c) Compostaggio | E55: =IF(hidden!K17=TRUE,hidden!I17,"")
E61: =hidden!I19 -> L'agricoltura ha un rapporto complesso con il riscaldamento globale, in quanto fornisce buone pratiche di utilizzo del suolo ma ha anche un impatto attraverso pratiche agricole intensive.
B67: Q3 | C67: =hidden!E20 -> Quanto contribuisce l'agricoltura al riscaldamento globale (secondo l'IPCC)?
C69: =hidden!H20 -> (a) 1.5% | E69: =IF(hidden!G20=1,hidden!I20,"")
C73: =hidden!H21 -> (b) 8.5% | E73: =IF(hidden!G20=2,hidden!I21,"")
C77: =hidden!H22 -> (c) 23% | E77: =IF(hidden!G20=3,hidden!I22,"")
B81: Q4 | C81: =hidden!E25 -> Quali delle seguenti affermazioni sono vere/false?
C83: =hidden!I25 -> (a) Economia circolare, sostenibilità, riduzione delle emissioni di carbonio ed efficienza energetica sono tutte interconnesse.
D84: =hidden!$G$3 -> VERO | G84: =hidden!$G$4 -> FALSO
C86: {=_xlfn.SWITCH(hidden!K26,1,hidden!I27,2,hidden!I28,"")}
C92: =hidden!I30 -> (b) La gerarchia dei rifiuti offre una priorità su come affrontare i rifiuti. L'ordine è Prevenzione, riciclaggio, riutilizzo, recupero, smaltimento.
D95: =hidden!$G$3 -> VERO | G95: =hidden!$G$4 -> FALSO
C98: {=_xlfn.SWITCH(hidden!K31,1,hidden!I33,2,hidden!I32,"")}
C103: =hidden!I35 -> (c) L'economia circolare è definita come un approccio “ prendi, fabbrica e butta” alle nostre risorse naturali.
D105: =hidden!$G$3 -> VERO | G105: =hidden!$G$4 -> FALSO
C108: {=_xlfn.SWITCH(hidden!K36,1,hidden!I38,2,hidden!I37,"")}
B113: =hidden!E41 -> 5 consigli per sostenere l'economia circolare in agricoltura
B115: =hidden!I41 -> Scoprire
C117: =IF(hidden!K43=TRUE,hidden!I43,"")
C122: =IF(hidden!K44=TRUE,hidden!I44,"")
C127: =IF(hidden!K45=TRUE,hidden!I45,"")
C132: =IF(hidden!K46=TRUE,hidden!I46,"")
C137: =IF(hidden!K47=TRUE,hidden!I47,"")
B143: =IF(AND(hidden!K43=TRUE,hidden!K44=TRUE,hidden!K45=TRUE,hidden!K46=TRUE,hidden!K47=TRUE),hidden!I49,"")

Sheet hidden
E3: Agricoltura ed economia circolare | G3: VERO
E4: Esplorare il modo in cui l'CE può essere implementata nel contesto dell'azienda agricola. | G4: FALSO
E6: L'economia circolare è applicabile a tutti i settori industriali e l'agricoltura non è da meno. Utilizzate questo strumento per esplorare la vostra comprensione delle azioni pratiche che potrebbero essere intraprese.
H7: 0
D8: Q1 | E8: Quali dei seguenti rifiuti possono potenzialmente causare danni all'ambiente? | H8: Latte | I8: Il latte contiene un'elevata quantità di Domanda Biochimica di Ossigeno (BOD) e quindi, se entra in un fiume, può avere un impatto devastante su pesci e altri animali.
H9: Letame | I9: Il letame contiene un'elevata quantità di Domanda Biochimica di Ossigeno (BOD) e quindi, se entra in un fiume, può avere un impatto devastante su pesci e altri animali.
H10: Pesticidi | I10: I pesticidi devono essere applicati in una situazione di controllo, per evitare un uso eccessivo. Inoltre i pesticidi, in quanto sostanze chimiche non naturali, hanno un'elevata emissione di gas serra associata alla loro produzione.
H11: Liquami | I11: Il liquame o letame liquido è ricco di azoto e quindi è un buon fertilizzante naturale, ma se usato in modo eccessivo può causare problemi di inquinamento per i fiumi e le falde acquifere.
I13: La maggior parte dei rifiuti agricoli ha il potenziale di causare danni all'ambiente e pertanto si incoraggiano buone pratiche sostenibili.
D14: Q2 | E14: Quali delle seguenti attività contribuiscono al riscaldamento globale?
H15: (a) Lavorazione del suolo | I15: Il suolo è un serbatoio naturale per il carbonio e il protossido di azoto. Un'eccessiva perturbazione dello strato superiore del suolo rilascia questi gas. | K15: FALSE
H16: (b) Carne e latticini | I16: I bovini, in particolare, producono quantità significative di metanfetamina, che è 30 volte più potente dell'anidride carbonica come gas serra. | K16: FALSE
H17: (c) Compostaggio | I17: Il compostaggio fa un buon uso di rifiuti che altrimenti richiederebbero un trattamento e migliora il suolo. Inoltre, ha un impatto limitato sul riscaldamento globale. | K17: FALSE
I19: L'agricoltura ha un rapporto complesso con il riscaldamento globale, in quanto fornisce buone pratiche di utilizzo del suolo ma ha anche un impatto attraverso pratiche agricole intensive.
D20: Q3 | E20: Quanto contribuisce l'agricoltura al riscaldamento globale (secondo l'IPCC)? | G20: 0 | H20: (a) 1.5% | I20: No. Solo l'utilizzo di energia e gasolio per le attività agricole è dell'1,5%.
H21: (b) 8.5% | I21: Corretto. La maggior parte dei gas serra proviene dal metano (dal bestiame) e dai protossidi di azoto dal suolo.
H22: (c) 23% | I22: No - troppo alto - ma il 14,5% deriva dalla deforestazione per ottenere terreni da coltivare.
D25: Q4 | E25: Quali delle seguenti affermazioni sono vere/false? | I25: (a) Economia circolare, sostenibilità, riduzione delle emissioni di carbonio ed efficienza energetica sono tutte interconnesse.
K26: 0
I27: Corretto: l'EC riguarda l'efficienza delle risorse e qualsiasi sfruttamento di risorse materiali comporta l'uso di energia e quindi l'impatto sulle emissioni di carbonio.
I28: Sbagliato - L'EC cerca di ridurre la quantità di materiali utilizzati nell'economia e di fare un uso migliore dei materiali utilizzati. Ciò si collega a benefici ambientali e di efficienza energetica.
I30: (b) La gerarchia dei rifiuti offre una priorità su come affrontare i rifiuti. L'ordine è Prevenzione, riciclaggio, riutilizzo, recupero, smaltimento.
K31: 0
I32: Corretto: l'ordine è prevenzione, riutilizzo, riciclaggio, recupero e smaltimento. Il riutilizzo è preferibile al riciclaggio.
I33: Sbagliato - il riutilizzo viene prima del riciclaggio, meglio cercare di utilizzare il materiale nella sua forma di prodotto che lavorare il materiale che lo compone.
I35: (c) L'economia circolare è definita come un approccio “ prendi, fabbrica e butta” alle nostre risorse naturali.
K36: 0
I37: Corretto: prendere, fare e buttare descrive un approccio lineare all'uso delle risorse, non circolare.
I38: Sbagliato - un'economia circolare cerca di mantenere le risorse naturali e il loro valore nel ciclo economico il più a lungo possibile.
E41: 5 consigli per sostenere l'economia circolare in agricoltura | I41: Scoprire
I43: Sviluppare un approccio all'azienda basato sull'input/output di materiali. Quali materiali vengono portati in azienda? - Quali materiali vengono portati via? È possibile ridurli per risparmiare denaro o proteggere l'ambiente? | K43: FALSE
I44: Cercate di acquistare prodotti locali e di vendere a livello locale. Più i prodotti viaggiano lontano, più sono necessari i trasporti e più è probabile che vengano utilizzati combustibili fossili. | K44: FALSE
I45: Pensate a come ottenere più valore dai rifiuti agricoli. È possibile effettuare il compostaggio o la digestione anaerobica dei rifiuti organici? | K45: FALSE
I46: Cercare di acquistare apparecchiature che abbiano una vita utile più lunga. L'estensione della vita del prodotto è un modello centrale di CE. | K46: FALSE
I47: Costruire su un modello di condivisione. Più le attrezzature possono essere condivise, più le risorse sono efficienti. Lavorate a stretto contatto con altre aziende e condividete i vantaggi. | K47: FALSE
I49: Come si può notare, sono molti i modi in cui il pensiero dell'economia circolare può essere applicato al settore agricolo, indipendentemente dal fatto che si tratti di produzione di carne, latticini o colture.
